BEGIN:VCALENDAR
VERSION:2.0
PRODID:-//https://cascobaysportsclub.com///NONSGML kigkonsult.se iCalcreator 2.10.15//
METHOD:PUBLISH
BEGIN:VEVENT
UID:20260419T130508UTC-9411Au3Iic@https://cascobaysportsclub.com/
DTSTAMP:20260419T130508Z
DESCRIPTION:\nTime: 8:30 PM\nLocation: Portland Sports Complex (Half Dome o
 r Full Dome)\nJoin our OpenSports group to view upcoming pickup sessions a
 nd to register!\n\nCasco Bay Sports is continuing a program utilizing turf
  fields (indoors & outdoors) for pickup soccer!  We have organizers on han
 d to keep things fun and friendly for both competitive and novice players.
 \nAll we ask from you is a positive attitude and small fee per session (ca
 rds only\, no cash accepted) to cover the costs of fields\, lights\, organ
 izers\, and laundry!\nOur pickup soccer sessions often involve up to three
  simultaneous games up to 6v6\, so it's important to RSVP & Register on ou
 r OpenSports group.\nBrowse all of our upcoming soccer events on our OpenS
 ports group!  Have fun!\nOpenSports \n\n\n  https://cascobaysportsclub.com
 /programs/event/188-tuesday-indoor-pickup-soccer-all-skill-levels
DTSTART;VALUE=DATE:20231212
LOCATION:The Dome @ Portland Sports Complex (512 Warren Avenue\, Portland\,
  ME 04103\, USA)
SUMMARY:Tuesday Indoor Pickup Soccer - All Skill Levels
URL:https://cascobaysportsclub.com/programs/event/188-tuesday-indoor-pickup
 -soccer-all-skill-levels
END:VEVENT
END:VCALENDAR
