BEGIN:VCALENDAR
VERSION:2.0
PRODID:-//https://cascobaysportsclub.com///NONSGML kigkonsult.se iCalcreator 2.10.15//
METHOD:PUBLISH
BEGIN:VEVENT
UID:20260419T144159UTC-3992wbLZml@https://cascobaysportsclub.com/
DTSTAMP:20260419T144159Z
DESCRIPTION:Registration Details:\n\n\n\nStatus Update:  \nOpen\n\n\nLeague
  Level\nA\,B & C Division breakdown available\n\n\n\n \n\n\n\nFull Team Fe
 e:\n$1050 - ($300 deposit required)\n\n\nTeam Balance:              \nDue 
 first day of play or $50 Late Fee applied     \n\n\nFree Agents:\nComplete
  Interested Player Form\n\n\n \n \n\n\nGame Times:\n8:30\, 9:30\, or 10:30
  PM (if needed)\n\n\n\n\nWhat's Included:\n\n6 game regular season with pl
 ayoff tournament (7 Weeks guaranteed)\nTeam shirts with color of choice\nT
 op notch league management & communication\nCertified referees with onsite
  league coordinator\nExcellent exercise!\n\nFor online registration\, clic
 k the Register Now button at the top of the page\, 3% service fee applies.
 \n \nBasic Rules:\n\n6 vs 6 (with at least 2 women)\n2- 25 minute halves r
 unning time\, stop time when applicable\n40 x 60 yard field\,  7' x 12' go
 als\nStrictly enforced sportsmanship policy\nAll kicks direct\nPlayers mus
 t be 21+\nNo metal cleats and shin guards recommended\nView the League Rul
 es below (under FILES)\n\n\n \n \n  https://cascobaysportsclub.com/program
 s/event/56-thursday-6-v-6-coed-indoor-soccer
DTSTART;VALUE=DATE:20240111
LOCATION:The Dome @ Portland Sports Complex (512 Warren Avenue\, Portland\,
  ME 04103\, USA)
SUMMARY:Thursday 6 v 6 Coed Indoor Soccer
URL:https://cascobaysportsclub.com/programs/event/56-thursday-6-v-6-coed-in
 door-soccer
END:VEVENT
END:VCALENDAR
