BEGIN:VCALENDAR
VERSION:2.0
PRODID:-//https://cascobaysportsclub.com///NONSGML kigkonsult.se iCalcreator 2.10.15//
METHOD:PUBLISH
BEGIN:VEVENT
UID:20260419T144026UTC-46388N0Trx@https://cascobaysportsclub.com/
DTSTAMP:20260419T144026Z
DESCRIPTION:Registration Details:\n\n\n\nStatus Update:\n\nPlace fully refu
 ndable team deposit to be place on waitlist\n\n\n\n \n\n\nLeague Level:\nA
 ll Ability levels\, division breakdown on playoff night\n\n\nFull Team Fee
 :\n$700 - ($200 deposit required)\n\n\nTeam Balance: \nBefore or on the fi
 rst night                   \n\n\nFree Agent Fee:\nComplete Interested Pla
 yer Form\n\n\n \n \n\n\nGame Times:\n5:30 PM & 8:00 PM rotating through se
 ason\n\n\n\n \nWhat's Included:\n\n6 week regular season plus playoff tour
 nament (7 weeks guaranteed)!\nTop notch league communication & scheduling
 \nUpdated standings with comprehensive bowling statistics\n2 Hours of Bowl
 ing per Night\nQuality bar & restaurant onsite with league specials \nShoe
  rentals are not included ($3/night)\n\nFor online registration\, click th
 e 'Register Now' button at the top of the page\, 3% service fee applies.\n
    \nBasic Rules:\n\n4-8 person teams\, with 4 bowlers per game (at least 
 1 female/game).  You must be on the roster to bowl.\n3 game strings each n
 ight\, bowlers can sub in from game to game\n1 point is awarded for each o
 f 4 head to head matchup (highest score vs highest score\, 2nd vs 2nd\, et
 c) and 1 point for high team score each game.  5 points are awarded for ea
 ch game for a total of 15 match points.\nThere will be no handicaps.\nPlay
 ers must be 21+\n\n \n \n \n  https://cascobaysportsclub.com/programs/even
 t/50-wednesday-coed-bowling-waitlist-w-refundable-deposit
DTSTART;VALUE=DATE:20240207
LOCATION:Bayside Bowl  (58 Alder Street\, Portland\, ME 04101\, USA)
SUMMARY:Wednesday Coed Bowling (Waitlist w/refundable deposit)
URL:https://cascobaysportsclub.com/programs/event/50-wednesday-coed-bowling
 -waitlist-w-refundable-deposit
END:VEVENT
END:VCALENDAR
