BEGIN:VCALENDAR
VERSION:2.0
PRODID:-//https://cascobaysportsclub.com///NONSGML kigkonsult.se iCalcreator 2.10.15//
METHOD:PUBLISH
BEGIN:VEVENT
UID:20260419T143939UTC-6460plsZTt@https://cascobaysportsclub.com/
DTSTAMP:20260419T143939Z
DESCRIPTION:Registration Details:\n\n\n\nStatus Update: \nPay deposit to re
 gister and get on list for 1/25\n\n\n \n \n\n\nLeague Level:\nAll Abilitie
 s w/2 playoff divisions if necessary\n\n\nFull Team Fee:\n$800 ($250 depos
 it required) \n\n\nTeam Balance:   \nDue first day of play or $50 Late Fee
  applied\n\n\nFree Agent Fee:\n$125\n\n\n \n \n\n\nGame Times:\n6:30\, 7:2
 5\, 8:20\, or 9:15 PM (with variations based on youth sports)\n\n\n\n\nWha
 t's Included:\n\n6 week season plus playoff tournament (7-8 Games guarante
 ed)\n8 team shirts with color of choice\nQuality league management & commu
 nication\nCoed friendly rules that keep all players involved\nExperienced 
 referees & score keepers\n\nFor online registration\, click the Register N
 ow button at the top of the page\, 3% service fee applies.\n \nBasic Rules
 :\n\n5 vs 5 (with at least 1 women on court)\nTwo- 20 minute halves\nMen's
  baskets: 1's & 2's\, Women's baskets:  2's & 3's\nPlayers substitute on t
 he fly\nClock stops in last two minutes\nPlayers must be 21+\nView the Lea
 gue Rules below (under FILES)\n\n \n \n \n \n  https://cascobaysportsclub.
 com/programs/event/49-thursday-coed-basketball
DTSTART;VALUE=DATE:20240125
LOCATION:The East End Community Center (195 North Street\, Portland\, ME 04
 101\, USA)
SUMMARY:Thursday Coed Basketball
URL:https://cascobaysportsclub.com/programs/event/49-thursday-coed-basketba
 ll
END:VEVENT
END:VCALENDAR
