BEGIN:VCALENDAR
VERSION:2.0
PRODID:-//https://cascobaysportsclub.com///NONSGML kigkonsult.se iCalcreator 2.10.15//
METHOD:PUBLISH
BEGIN:VEVENT
UID:20260419T144000UTC-6945j90v4T@https://cascobaysportsclub.com/
DTSTAMP:20260419T144000Z
DESCRIPTION:Registration Details:\n\n\n\nStatus Update:\nOpen\n\n\nCapacity
 : \n10 team cap\n\n\nLeague Level:\n2-3 Divisions of play (select A or B\,
  will form C if needed)\n\n\n \n \n\n\nTotal Team Fee:\n$1275  ($300 depos
 it required)\n\n\nTeam Balance:     \nDue first day of play or $50 Late Fe
 e applied\n\n\nFree Agent Registration:\nComplete Interested Player Form\n
 \n\n \n \n\n\nGame Times:\n8:30\, 9:30\, or 10:30 PM (only if needed)\n\n
 \nFields Utilized:\nDome @ Portland Sports Complex\, Warren Ave Portland\n
 \n\n\n\nWhat's Included:\n\n6 Game Season plus playoff tournament (7-8 gam
 es guaranteed)\nTop rate league management & communication\nPrompt schedul
 e & standings updates\nTeam plays on SAME night each week\nAssigned qualit
 y umpires \n\nFor online registration: click the Register Now button at th
 e top of the page\, 3% service fee applies.Recruiting a local business for
  team fee sponsorship?  We readily provide W9's.\nBasic Rules:\n\n9 player
 s on the field (6 men\, 3 women)\nBatting order alternates between genders
 \n60 minute games/start with 1-1 count\nCustom indoor softballs provided\n
 Players must be 21+\nView the League Rules below (under FILES)\n\nSponsor 
 Shirts or Jerseys: We refer T's R Us (Gray\, ME) 207-657-3900\n  https://c
 ascobaysportsclub.com/programs/event/48-tuesday-coed-indoor-softball
DTSTART;VALUE=DATE:20240109
LOCATION:The Dome @ Portland Sports Complex (512 Warren Avenue\, Portland\,
  ME 04103\, USA)
SUMMARY:Tuesday Coed Indoor Softball
URL:https://cascobaysportsclub.com/programs/event/48-tuesday-coed-indoor-so
 ftball
END:VEVENT
END:VCALENDAR
