BEGIN:VCALENDAR
VERSION:2.0
PRODID:-//https://cascobaysportsclub.com///NONSGML kigkonsult.se iCalcreator 2.10.15//
METHOD:PUBLISH
BEGIN:VEVENT
UID:20260419T144226UTC-78891OOxsS@https://cascobaysportsclub.com/
DTSTAMP:20260419T144226Z
DESCRIPTION:The Important Stuff:\n\n\n\nRegistration: \nOpen\n\n\nLeague Le
 vel:\nAll abilities\n\n\n \n \n\n\nFull Team Fee:\n$700 ($200 deposit requ
 ired)\n\n\nTeam Balance:     \nBefore or on the first night of play\n\n\nF
 ree Agent Fee:\n$100 - Team placement available\n\n\n \n \n\n\nGame Times:
 \n7:00\, 7:45 or 8:30 PM\n\n\n\nWhat's Included:\n\n6 Weeks of play includ
 ing playoff tournament\nQuality league management & communication\nUpdated
  schedules & standings\nReferee & score keeper\nAmazing exercise & fun atm
 osphere\n\nFor online registration\, click the Register Now button at the 
 top of the page\, 3% service fee applies.\n \nBasic Rules:\n\n8 vs 8 (with
  at least 2 women) - 10 player rosters encouraged\nFour - 8 minute quarter
 s running time\nMens goals 1 point\, womens 2 points\nPlayers must be 21+
 \nNo splashing or grabbing of ball in possession\nView the League Rules be
 low (under FILES)\n\n\n \n  https://cascobaysportsclub.com/programs/event/
 40-wednesday-coed-inner-tube-water-polo
DTSTART;VALUE=DATE:20240221
LOCATION:Cape Elizabeth High School  (Cape Elizabeth High School\, 345 Ocea
 n House Road\, Cape Elizabeth\, ME 04107\, USA)
SUMMARY:Wednesday Coed Inner Tube Water Polo
URL:https://cascobaysportsclub.com/programs/event/40-wednesday-coed-inner-t
 ube-water-polo
END:VEVENT
END:VCALENDAR
