BEGIN:VCALENDAR
VERSION:2.0
PRODID:-//https://cascobaysportsclub.com///NONSGML kigkonsult.se iCalcreator 2.10.15//
METHOD:PUBLISH
BEGIN:VEVENT
UID:20260419T214019UTC-36829LDfXV@https://cascobaysportsclub.com/
DTSTAMP:20260419T214019Z
DESCRIPTION:Registration Details:\n\n\n\nStatus: \nOpen\n\n\nLeague Level:
 \nA & B divisions available based on registrations\n\n\n \n\n\nFull Team F
 ee:\n$750 ($200 deposit required)\n\n\nTeam Balance:         \nDue first d
 ay of play or $50 Late Fee applied\n\n\nFree Agent Fee:\n$95 - Team placem
 ent available\n\n\n \n \n\n\nGame Times:\n6:15\, 7:15\, 8:15\, or 9:15 PM 
 If Needed\n\n\n\nNEW League & Format takes place @ Boys & Girls Clubs of S
 outh Portland!\nWhat's Included:\n\n6 game season plus playoff tournament 
 (7 games minimum)\n8 team shirts included w/color of choice\nExperienced r
 eferees\nFloor Hockey balls provided - goalie equipment available\nAmazing
  exercise!\n\nFor online registration\, click the Register Now button at t
 he top of the page\, 3% service fee applies.\n \n \nBasic Rules:\n\n5 vs 5
  (with at least 1 women\, not including the goalie on the court at all tim
 es)\n25 minute halves running time\nABSOLUTELY NO CONTACT\nProtective eyew
 ear mantatory \nShin guards and gloves recommended \nPlayers must be 21+\n
 View the League Rules below (under FILES)\n\nWhat players will need to bri
 ng:\n\nHockey stick:sticks with wood blades must have fiberglass coatings
 \nGoalie mask and pads for that position\nEyewear is required  (we have go
 ggles for participants) or they can bring their own \nShin pads recommende
 d\n\n\n \n  https://cascobaysportsclub.com/programs/event/38-wednesday-5-x
 -5-coed-floor-hockey
DTSTART;VALUE=DATE:20240110
LOCATION:Boys & Girls Club - South Portland ()
SUMMARY:Wednesday 5 x 5 Coed Floor Hockey
URL:https://cascobaysportsclub.com/programs/event/38-wednesday-5-x-5-coed-f
 loor-hockey
END:VEVENT
END:VCALENDAR
