BEGIN:VCALENDAR
VERSION:2.0
PRODID:-//https://cascobaysportsclub.com///NONSGML kigkonsult.se iCalcreator 2.10.15//
METHOD:PUBLISH
BEGIN:VEVENT
UID:20260419T144353UTC-5666I8Pehv@https://cascobaysportsclub.com/
DTSTAMP:20260419T144353Z
DESCRIPTION:Registration Details:\n\n\n\nStatus Update: \n\nPay refundable 
 deposit to be placed on waitlist.  Free Agent registration is also refunda
 ble if not placed!\n\n\n\nLeague Level:\nAll ability levels \n\n\n \n \n\n
 \nFull Team Fee:\n$550 ($150 deposit required)\n\n\nTeam Balance:         
   \nDue first day of play or $50 Late Fee applied\n\n\nFree Agent Fee:\n$8
 5 Team placement based on registrations\n\n\n \n \n\n\nGame Times:\n6:30\,
  7:30\, or 8:30 PM Round Robins\n\n\n\n \nWhat's Included:\n\n6 week regul
 ar season plus playoff tournament! (7 Weeks Total)\n4 games per night\nTea
 m shirts w/color choice\nQuality league management & communication\nGreat 
 exercise & social atmosphere\n\nFor online registration click the Register
  Now button at the top of the page\, 3% service fee applies.\n \nBasic Rul
 es:\n\n6 vs 6 (with at least 2 women)\nRosters of 7 or 8 required\n4 games
  each night\nGames to 25 points (rally scoring) or 15 mins\nPlayers must b
 e 21+\nView the League Rules below (under FILES)\n\n \n  https://cascobays
 portsclub.com/programs/event/28-monday-6-v-6-coed-indoor-volleyball-waitli
 st-with-refundable-deposit
DTSTART;VALUE=DATE:20240205
LOCATION:The East End Community Center (195 North Street\, Portland\, ME 04
 101\, USA)
SUMMARY:Monday 6 v 6 Coed Indoor Volleyball (Waitlist with refundable depos
 it)
URL:https://cascobaysportsclub.com/programs/event/28-monday-6-v-6-coed-indo
 or-volleyball-waitlist-with-refundable-deposit
END:VEVENT
END:VCALENDAR
