BEGIN:VCALENDAR
VERSION:2.0
PRODID:-//https://cascobaysportsclub.com///NONSGML kigkonsult.se iCalcreator 2.10.15//
METHOD:PUBLISH
BEGIN:VEVENT
UID:20260419T144000UTC-8302ALev26@https://cascobaysportsclub.com/
DTSTAMP:20260419T144000Z
DESCRIPTION:Registration Details:\n\n\n\nStatus Update: \nOpen - 6 Team Cap
 \n\n\n \n \n\n\nLeague Level:\nAll Abilities w/2 playoff divisions if nece
 ssary\n\n\nFull Team Fee:\n$800 ($250 deposit required) \n\n\nTeam Balance
 :   \nDue first day of play or $50 Late Fee applied\n\n\nFree Agent Fee:\n
 $125\n\n\n \n \n\n\nGame Times:\n6:00\, 7:00\, 8:00 PM\n\n\n\n\nWhat's Inc
 luded:\n\n6 week season plus playoff tournament (7-8 Games guaranteed)\n8 
 team shirts with color of choice\nQuality league management & communicatio
 n\nCoed friendly rules that keep all players involved\nExperienced referee
 s & score keepers\n\nFor online registration\, click the Register Now butt
 on at the top of the page\, 3% service fee applies.\n \nBasic Rules:\n\n5 
 vs 5 (with at least 1 women on court)\nTwo- 20 minute halves\nMen's basket
 s: 1's & 2's\, Women's baskets:  2's & 3's\nPlayers substitute on the fly
 \nClock stops in last two minutes\nPlayers must be 21+\nView the League Ru
 les below (under FILES)\n\n \n \n \n \n  https://cascobaysportsclub.com/pr
 ograms/event/210-thursday-coed-basketball
DTSTART;VALUE=DATE:20240919
LOCATION:Boys & Girls Club - Portland (277 Cumberland Ave Portland\, ME 041
 01)
SUMMARY:Thursday Coed Basketball
URL:https://cascobaysportsclub.com/programs/event/210-thursday-coed-basketb
 all
END:VEVENT
END:VCALENDAR
