BEGIN:VCALENDAR
VERSION:2.0
PRODID:-//https://cascobaysportsclub.com///NONSGML kigkonsult.se iCalcreator 2.10.15//
METHOD:PUBLISH
BEGIN:VEVENT
UID:20260419T214019UTC-8522EnFiVh@https://cascobaysportsclub.com/
DTSTAMP:20260419T214019Z
DESCRIPTION:Registration Details:\n\n\n\nStatus Update:\nPay refundable dep
 osit to get on the waiting list\n\n\nLeague Capacity: \n19 Teams\n\n\nLeve
 ls of Play:  \nA\,B\, or C divisions based on experience\n\n\nNew Team Fee
 :\n$300\n\n\nFree Agent Registration:  \n$150 - We can pair you up!\n\n\n 
 \n \n\n\nMatch Times:\n6:30 or 8:00 PM\n\n\n\nNote:  This league will have
  90 minute time slots and 6 Games per week!\nWhat's Included:\n\n6 week se
 ason including playoff tournament!\n90 minute sessions (6 games/night)\nUp
 dated stats and standings\nIndoor balls & net setups (players bring racket
 s)\n\nFor online registration\, click the Register Now button at the top o
 f the page\, 3% convenience fee applies.\n\nBasic Rules:\n\n2-4 person tea
 ms (4 players can be on roster)\nPlayers 3 and 4 can rotate in between gam
 es\nMen's\, Women's\, & Coed Teams = one division\nGames to 11 points stra
 ight in regular season- win by 2 in playoffs\nServe to score\nHonesty poli
 cy on lines\nPlayers must be 21+\n\n  https://cascobaysportsclub.com/progr
 ams/event/198-monday-indoor-pickleball-league-waitlist-w-refundable-deposi
 t
DTSTART;VALUE=DATE:20240108
LOCATION:The Point Community Center - South Portland (345 Clarks Pond Pkwy\
 , South Portland\, ME 04106\, USA)
SUMMARY:Monday Indoor Pickleball League (Waitlist w/refundable deposit)
URL:https://cascobaysportsclub.com/programs/event/198-monday-indoor-pickleb
 all-league-waitlist-w-refundable-deposit
END:VEVENT
END:VCALENDAR
