BEGIN:VCALENDAR
VERSION:2.0
PRODID:-//https://cascobaysportsclub.com///NONSGML kigkonsult.se iCalcreator 2.10.15//
METHOD:PUBLISH
BEGIN:VEVENT
UID:20260419T214019UTC-1956pB1lTl@https://cascobaysportsclub.com/
DTSTAMP:20260419T214019Z
DESCRIPTION:Registration Details:\n\n\n\nStatus Update:   \n\nOpen\n\n\n\nL
 eague Level:\nA & B divisions available\n\n\n \n\n\nFull Team Fee:\n$450 (
 $150 deposit required)\n\n\nTeam Balance:        \nDue first day of play o
 r $50 Late Fee applied\n\n\nFree Agent Fee:\n$85 - Team placement availabl
 e\n\n\n \n \n\n\nGame Times:\n7:30 or 8:30 PM\n\n\n\n Note:  No Games Supe
 r Bowl Sunday\nWhat's Included:\n\n6 week regular season plus playoff tour
 nament\nTeam shirts included with color of choice\n4 games per night\nTop 
 rate league managment & communication\nOnsite league administrater\nFun at
 mosphere & great exercise\n\nFor online registration\, click the Register 
 Now button at the top of the page\, 3% service fee applies.\n\nBasic Rules
 :\n\n6 vs 6 (with at least 2 women)\nRosters of 6 or 7 players required\n4
 -5 games each night to 25 points (rally scoring)  \nPlayers must be 21+\nV
 iew the League Rules below (under FILES)\n\n\n  https://cascobaysportsclub
 .com/programs/event/197-sunday-6-v-6-coed-indoor-volleyball
DTSTART;VALUE=DATE:20230319
LOCATION:The East End Community Center (195 North Street\, Portland\, ME 04
 101\, USA)
SUMMARY:Sunday 6 v 6 Coed Indoor Volleyball
URL:https://cascobaysportsclub.com/programs/event/197-sunday-6-v-6-coed-ind
 oor-volleyball
END:VEVENT
END:VCALENDAR
