BEGIN:VCALENDAR
VERSION:2.0
PRODID:-//https://cascobaysportsclub.com///NONSGML kigkonsult.se iCalcreator 2.10.15//
METHOD:PUBLISH
BEGIN:VEVENT
UID:20260419T231957UTC-0461SDzFKg@https://cascobaysportsclub.com/
DTSTAMP:20260419T231957Z
DESCRIPTION:Registration Details:\n\n\n\nStatus Update:  \nOpen\n\n\nLeague
  Level:\nA\, B\, or C Division breakdown based on registrations\n\n\n \n 
 \n\n\nTeam Fee:\n$1050 ($300 deposit required)\n\n\nTeam Balance:     \nDu
 e first day of play or $50 Late Fee applied\n\n\nFree Agent Fee:\nComplete
  Interested Player Form\n\n\n \n \n\n\nGame Times:\n8:30\, 9:30\, or 10:30
  PM games with some deviation\n\n\nFields Used:\nPortland Sports Complex\n
 \n\n\nNote:  This session will play mostly inside at PSC\nWhat's Included:
 \n\n6 game regular season plus playoff tournament (7 Weeks of Play Total)
 \n8-10 team shirts\, with color of choice\nCertified referees & onsite lea
 gue coordinator\nTop rate league communication & scheduling\nFun and great
  exercise!\n\nFor online registration\, click the Register Now button at t
 he top of the page\, 3% processing fee applies.\n \nBasic Rules:\n\n6 vs 6
  (with at least 2 women)\n2- 25 minute halves running time\, stop time whe
 n applicable\n40 x 60 yard field\,  7' x 12' goals\nPlayers must be 21+\nS
 portsmanship policy strictly enforced\nNo metal cleats and shin guards rec
 ommended\nView the League Rules below (under FILES)\n\n\n \n  https://casc
 obaysportsclub.com/programs/event/184-monday-6-v-6-coed-soccer
DTSTART;VALUE=DATE:20240108
LOCATION:The Dome @ Portland Sports Complex (512 Warren Avenue\, Portland\,
  ME 04103\, USA)
SUMMARY:Monday 6 v 6 Coed Soccer
URL:https://cascobaysportsclub.com/programs/event/184-monday-6-v-6-coed-soc
 cer
END:VEVENT
END:VCALENDAR
