BEGIN:VCALENDAR
VERSION:2.0
PRODID:-//https://cascobaysportsclub.com///NONSGML kigkonsult.se iCalcreator 2.10.15//
METHOD:PUBLISH
BEGIN:VEVENT
UID:20260419T213857UTC-18090eirj4@https://cascobaysportsclub.com/
DTSTAMP:20260419T213857Z
DESCRIPTION:Registration Details:\n\n\n\nStatus Update:  \nOpen\n\n\nLeague
  Level:\nA\, B\, or C Divisions based on registrations\n\n\n \n\n\nNew Tea
 m Fee:  \n$1050 - ($300 deposit required)\n\n\nTeam Balance:\nDue first da
 y of play or $50 Late Fee applied\n\n\nFree Agents: \nComplete Interested 
 Player Form\n\n\n \n \n\n\nGame Times:\n7:30\, 8:30\, 9:30\, or 10:30 PM (
 only if necessary)\n\n\nFields Used:\nFitzpatrick Stadium & Portland Sport
 s Complex\n\n\n\n\nNote: This session will play mostly inside at PSC\n\nWh
 at's Included:\n\n6 game regular season plus playoff tournament (7 Weeks G
 uaranteed)\n8-10 team shirts\, with color of choice\nCertified Referees & 
 onsite league coordinator\nTop rate league communication & scheduling\nFun
  and great exercise!\n\nFor online registration\, click the Register Now b
 utton at the top of the page\, 3% service fee applies.\n \nBasic Rules:\n
 \n6 vs 6 (with at least 2 women)\n2- 25 minute halves running time\, stop 
 time when applicable\n40 x 60 yard field\,  7' x 12' goals\nPlayers must b
 e 21+\nSportsmanship policy strictly enforced\nNo metal cleats and shin gu
 ards recommended\nView the League Rules below (under FILES)\n\n\n  https:/
 /cascobaysportsclub.com/programs/event/183-wednesday-6-v-6-coed-soccer
DTSTART;VALUE=DATE:20240103
LOCATION:The Dome @ Portland Sports Complex (512 Warren Avenue\, Portland\,
  ME 04103\, USA)
SUMMARY:Wednesday 6 v 6 Coed Soccer
URL:https://cascobaysportsclub.com/programs/event/183-wednesday-6-v-6-coed-
 soccer
END:VEVENT
END:VCALENDAR
