BEGIN:VCALENDAR
VERSION:2.0
PRODID:-//https://cascobaysportsclub.com///NONSGML kigkonsult.se iCalcreator 2.10.15//
METHOD:PUBLISH
BEGIN:VEVENT
UID:20260419T144128UTC-1119AhUmuV@https://cascobaysportsclub.com/
DTSTAMP:20260419T144128Z
DESCRIPTION:Registration Details:\n\n\n\nStatus Update: \nPay refundable de
 posit to be placed on waiting list\n\n\nLeague Level:\nAll abilities w/pla
 yoff breakdown if necessary\n\n\n \n\n\nFull Team Fee:\n$800 ($250 deposit
  required) \n\n\nTeam Balance:   \nDue first day of play or $50 Late Fee a
 pplied\n\n\nFree Agent Fee:\n$125 Team placement based on registrations\n
 \n\n \n \n\n\nGame Times:\n7:00\, 8:00\, 9:00\, 10:00 PM or variation of\n
 \n\n\nNote:\nWhat's Included:\n\n6 week season plus playoff tournament\n7-
 8 games guaranteed\n8 team shirts with color of choice\nQuality league man
 agement & communication\nCoed friendly rules that keep all players involve
 d\nExperienced referees & score keepers\n\nFor online registration\, click
  the Register Now button at the top of the page\, 3% service fee applies.
 \n \nBasic Rules:\n\n5 vs 5 (with at least 1 women on court)\nTwo- 20 minu
 te halves\nMen's baskets:  1's & 2's\, Women's baskets:  2's & 3's\nPlayer
 s substitute on the fly\nClock stops in last two minutes\nPlayers must be 
 21+\nView the League Rules below (under FILES)\n\n \n \n \n \n  https://ca
 scobaysportsclub.com/programs/event/139-monday-coed-basketball-waitlist-w-
 refundable-deposit
DTSTART;VALUE=DATE:20240108
LOCATION:Maine Basketball Academy - Stevens Square (631 Stevens Ave Portlan
 d\, ME 04101)
SUMMARY:Monday Coed Basketball (Waitlist w/refundable deposit)
URL:https://cascobaysportsclub.com/programs/event/139-monday-coed-basketbal
 l-waitlist-w-refundable-deposit
END:VEVENT
END:VCALENDAR
