BEGIN:VCALENDAR
VERSION:2.0
PRODID:-//https://cascobaysportsclub.com///NONSGML kigkonsult.se iCalcreator 2.10.15//
METHOD:PUBLISH
BEGIN:VEVENT
UID:20260419T144122UTC-8613GaGttK@https://cascobaysportsclub.com/
DTSTAMP:20260419T144122Z
DESCRIPTION:Registration Details:\n\n\n\nStatus Update:\nPlace fully refund
 able team deposit to be place on waitlist\n\n\n \n\n\nLeague Level:\nAll a
 bility levels\, 3-4 division breakdown on playoff night\n\n\nTotal Team Fe
 e:    \n$700 - ($200 deposit required)\n\n\nTeam Balance:    \nDue before 
 or on first night of play                     \n\n\nFree Agent Fee: \nComp
 lete Interested Player Form\n\n\n \n \n\n\nGame Times:\n5:30 PM & 8:00 PM 
 rotating through season\n\n\n\n \nWhat's Included:\n\n6 week regular seaso
 n plus playoff tournament (7 weeks guaranteed)!\nTop notch league communic
 ation & scheduling\nUpdated standings with comprehensive bowling statistic
 s\n2 Hours of Bowling per Night\nQuality bar & restaurant onsite with leag
 ue specials \nShoe rentals are not included ($3/night)\n\nFor online regis
 tration\, click the 'Register Now' button at the top of the page\, 3% proc
 essing fee applies.\n   \nBasic Rules:\n\n4-8 person teams\, with 4 bowler
 s per game (at least 1 female/game).  You must be on the roster to bowl.\n
 3 game strings each night\, bowlers can sub in from game to game\n1 point 
 is awarded for each of 4 head to head matchup (highest score vs highest sc
 ore\, 2nd vs 2nd\, etc) and 1 point for high team score each game.  5 poin
 ts are awarded for each game for a total of 15 match points.\nThere will b
 e no handicaps.\nPlayers must be 21+\n\n\n \n \n \n \n  https://cascobaysp
 ortsclub.com/programs/event/108-monday-coed-bowling-broadway-at-capacity
DTSTART;VALUE=DATE:20260126
LOCATION:Broadway Bowl (725 Broadway Street\, South Portland\, ME 04106)
SUMMARY:Monday Coed Bowling @ Broadway (At Capacity)
URL:https://cascobaysportsclub.com/programs/event/108-monday-coed-bowling-b
 roadway-at-capacity
END:VEVENT
END:VCALENDAR
